BEGIN:VCALENDAR
VERSION:2.0
PRODID:SchoolNow
CALSCALE:GREGORIAN
BEGIN:VEVENT
UID:d758e282-8a6c-11ef-b461-0a58a9feac02
DTSTAMP:20241014T204356Z
SUMMARY:Strengthening Parenting & Student Success Workshop
LOCATION:LRC 871
URL;VALUE=URI:https://www.frc.edu/student-success-programs/calendar/6824556
 /strengthening-parenting-student-success-workshop
DTSTART:20241030T190000Z
DTEND:20241030T200000Z
END:VEVENT
END:VCALENDAR
