BEGIN:VCALENDAR
VERSION:2.0
PRODID:SchoolNow
CALSCALE:GREGORIAN
BEGIN:VEVENT
UID:72a1cfea-7d18-11ef-a2f1-02c20f9cf683
DTSTAMP:20240927T213542Z
SUMMARY:Bridging the Gap: Enhancing Culturally Competent Mental Health Care
  Access in the Undocumented Community
LOCATION:Webinar
URL;VALUE=URI:https://www.frc.edu/student-success-programs/calendar/6705096
 /supporting-undocumented-students-in-uncertain-times-addressing-challenges
 -and-fostering-allyship-clone-clone-clone
DTSTART:20241017T160000Z
DTEND:20241017T170000Z
END:VEVENT
END:VCALENDAR
