BEGIN:VCALENDAR
VERSION:2.0
PRODID:SchoolNow
CALSCALE:GREGORIAN
BEGIN:VEVENT
UID:ab8225f6-7d10-11ef-a53c-02026055f355
DTSTAMP:20240927T204002Z
SUMMARY:Pathways to Belonging: Understanding Naturalization and Lawful Perm
 anent Residency in the U.S.
LOCATION:Webinar
URL;VALUE=URI:https://www.frc.edu/student-success-programs/calendar/6704971
 /supporting-undocumented-students-in-uncertain-times-addressing-challenges
 -and-fostering-allyship-clone-clone
DTSTART:20241016T160000Z
DTEND:20241016T170000Z
END:VEVENT
END:VCALENDAR
