BEGIN:VCALENDAR
VERSION:2.0
PRODID:SchoolNow
CALSCALE:GREGORIAN
BEGIN:VEVENT
UID:65052386-7d0a-11ef-9ce3-0e14255c1ab9
DTSTAMP:20240927T195506Z
SUMMARY:Unlocking Financial Aid Opportunities: Maximizing State Financial A
 id Programs
LOCATION:Webinar
URL;VALUE=URI:https://www.frc.edu/student-success-programs/calendar/6704963
 /supporting-undocumented-students-in-uncertain-times-addressing-challenges
 -and-fostering-allyship-clone
DTSTART:20241015T160000Z
DTEND:20241015T170000Z
END:VEVENT
END:VCALENDAR
