BEGIN:VCALENDAR
VERSION:2.0
PRODID:SchoolNow
CALSCALE:GREGORIAN
BEGIN:VEVENT
UID:861d4ac8-7d08-11ef-884f-0afff1e87e15
DTSTAMP:20240927T194548Z
SUMMARY:Supporting Undocumented Students in Uncertain Times: Addressing Cha
 llenges and Fostering Allyship
LOCATION:Webinar
URL;VALUE=URI:https://www.frc.edu/student-success-programs/calendar/6704954
 /supporting-undocumented-students-in-uncertain-times-addressing-challenges
 -and-fostering-allyship
DTSTART:20241014T160000Z
DTEND:20241014T170000Z
END:VEVENT
END:VCALENDAR
