BEGIN:VCALENDAR
VERSION:2.0
PRODID:SchoolNow
CALSCALE:GREGORIAN
BEGIN:VEVENT
UID:419cc2a6-76ab-11ef-a854-0a58a9feac02
DTSTAMP:20240919T171858Z
SUMMARY:Plumas County Veterans Stand Down
LOCATION:Springs of Hope Church 59 Bell Ln. Quincy\, Ca 95971.
URL;VALUE=URI:https://www.frc.edu/student-success-programs/calendar/6642736
 /plumas-county-veterans-stand-down
DTSTART:20240928T160000Z
DTEND:20240928T210000Z
END:VEVENT
END:VCALENDAR
