BEGIN:VCALENDAR
VERSION:2.0
PRODID:SchoolNow
CALSCALE:GREGORIAN
BEGIN:VEVENT
UID:f46ef7de-76a9-11ef-b2ca-0e114c42936b
DTSTAMP:20240919T170939Z
SUMMARY:Free Lunch for Students
LOCATION:Eagles Perch
URL;VALUE=URI:https://www.frc.edu/student-success-programs/calendar/6642735
 /free-lunch-for-students-clone-clone-clone-clone-clone-clone-clone
DTSTART:20241205T190000Z
DTEND:20241205T220000Z
END:VEVENT
END:VCALENDAR
