BEGIN:VCALENDAR
VERSION:2.0
PRODID:SchoolNow
CALSCALE:GREGORIAN
BEGIN:VEVENT
UID:ef4d57dc-76a9-11ef-8fd0-0e586fb95d63
DTSTAMP:20240919T170930Z
SUMMARY:Free Lunch for Students
LOCATION:Eagles Perch
URL;VALUE=URI:https://www.frc.edu/student-success-programs/calendar/6642734
 /free-lunch-for-students-clone-clone-clone-clone-clone-clone
DTSTART:20241114T190000Z
DTEND:20241114T220000Z
END:VEVENT
END:VCALENDAR
