BEGIN:VCALENDAR
VERSION:2.0
PRODID:SchoolNow
CALSCALE:GREGORIAN
BEGIN:VEVENT
UID:e4a190e6-76a9-11ef-9d94-0a58a9feac02
DTSTAMP:20240919T170912Z
SUMMARY:Free Lunch for Students
LOCATION:Eagles Perch
URL;VALUE=URI:https://www.frc.edu/student-success-programs/calendar/6642732
 /free-lunch-for-students-clone-clone-clone-clone
DTSTART:20241017T180000Z
DTEND:20241017T210000Z
END:VEVENT
END:VCALENDAR
