BEGIN:VCALENDAR
VERSION:2.0
PRODID:SchoolNow
CALSCALE:GREGORIAN
BEGIN:VEVENT
UID:75cdd988-0e3d-11ef-914f-0ea9a9dd1fd3
DTSTAMP:20240509T195100Z
SUMMARY:Grad Cap Decorating
LOCATION:Student Wellness and Success Center
URL;VALUE=URI:https://www.frc.edu/student-success-programs/calendar/5944184
 /grad-cap-decorating-clone
DTSTART:20240513T153000Z
DTEND:20240524T233000Z
END:VEVENT
END:VCALENDAR
