BEGIN:VCALENDAR
VERSION:2.0
PRODID:SchoolNow
CALSCALE:GREGORIAN
BEGIN:VEVENT
UID:e2cc7baa-909a-11ee-a790-0a58a9feac02
DTSTAMP:20231201T224219Z
SUMMARY:Dairy Day Grab Bag Event
LOCATION:Student Wellness and Success Center
URL;VALUE=URI:https://www.frc.edu/student-success-programs/calendar/4978478
 /dairy-day-grab-bag-event
DTSTART:20231205T170000Z
DTEND:20231206T000000Z
END:VEVENT
END:VCALENDAR
