BEGIN:VCALENDAR
VERSION:2.0
PRODID:SchoolNow
CALSCALE:GREGORIAN
BEGIN:VEVENT
UID:8d56cae0-ed9a-11f0-bdec-0affeea2f31f
DTSTAMP:20260109T203410Z
SUMMARY:Free Lunch for Students
LOCATION:Eagles Perch
URL;VALUE=URI:https://www.frc.edu/student-success-programs/basic-needs/cale
 ndar/8833628/free-lunch-clone
DTSTART:20260212T190000Z
DTEND:20260212T220000Z
END:VEVENT
END:VCALENDAR
