BEGIN:VCALENDAR
VERSION:2.0
PRODID:SchoolNow
CALSCALE:GREGORIAN
BEGIN:VEVENT
UID:cb7955f2-ed97-11f0-a10c-0a58a9feac02
DTSTAMP:20260109T201438Z
SUMMARY:Free Lunch for Students
LOCATION:Eagles Perch
URL;VALUE=URI:https://www.frc.edu/student-success-programs/basic-needs/cale
 ndar/8833609/free-lunch
DTSTART:20260129T190000Z
DTEND:20260129T220000Z
END:VEVENT
END:VCALENDAR
