BEGIN:VCALENDAR
VERSION:2.0
PRODID:SchoolNow
CALSCALE:GREGORIAN
BEGIN:VEVENT
UID:7bcc5fc2-ebf3-11f0-87e9-0affeea2f31f
DTSTAMP:20260218T175850Z
SUMMARY:Meal Kit Grab Bag with Basic Needs
LOCATION:Student Wellness and Success Center
URL;VALUE=URI:https://www.frc.edu/student-success-programs/basic-needs/cale
 ndar/8832411/meal-kit-grab-bag-with-basic-needs-clone-clone
DTSTART:20260224T180000Z
DTEND:20260224T200000Z
END:VEVENT
END:VCALENDAR
