BEGIN:VCALENDAR
VERSION:2.0
PRODID:SchoolNow
CALSCALE:GREGORIAN
BEGIN:VEVENT
UID:72752f40-ebe8-11f0-9671-0a58a9feac02
DTSTAMP:20260116T202055Z
SUMMARY:Mac and Cheese - Meal Kit Grab Bag with Basic Needs
LOCATION:Student Wellness and Success Center
URL;VALUE=URI:https://www.frc.edu/student-success-programs/basic-needs/cale
 ndar/8832281/meal-kit-grab-bag-with-basic-needs-clone
DTSTART:20260129T180000Z
DTEND:20260129T200000Z
END:VEVENT
END:VCALENDAR
