BEGIN:VCALENDAR
VERSION:2.0
PRODID:SchoolNow
CALSCALE:GREGORIAN
BEGIN:VEVENT
UID:4a14a332-bb41-11f0-8918-0e058de3dd31
DTSTAMP:20251106T202211Z
SUMMARY:Cozy Veggie Chicken Bake - Meal Kit Grab Bag with Basic Needs
LOCATION:Student Wellness and Success Center
URL;VALUE=URI:https://www.frc.edu/student-success-programs/basic-needs/cale
 ndar/8781302/meal-kit-grab-bag-with-basic-needs
DTSTART:20251112T180000Z
DTEND:20251112T200000Z
END:VEVENT
END:VCALENDAR
