BEGIN:VCALENDAR
VERSION:2.0
PRODID:SchoolNow
CALSCALE:GREGORIAN
BEGIN:VEVENT
UID:206c82b2-a2db-11f0-87ea-0a58a9feac02
DTSTAMP:20251006T173727Z
SUMMARY:Fried Rice - Meal Kit Grab Bag with Basic Needs
LOCATION:Student Wellness and Success Center
URL;VALUE=URI:https://www.frc.edu/student-success-programs/basic-needs/cale
 ndar/8699607/overnight-oats-meal-kit-grab-bag-with-basic-needs-clone
DTSTART:20251015T170000Z
DTEND:20251015T200000Z
END:VEVENT
END:VCALENDAR
