BEGIN:VCALENDAR
VERSION:2.0
PRODID:SchoolNow
CALSCALE:GREGORIAN
BEGIN:VEVENT
UID:7e0e5074-8f55-11f0-a63c-0a58a9feac02
DTSTAMP:20250911T212259Z
SUMMARY:Overnight Oats - Meal Kit Grab Bag with Basic Needs
LOCATION:Student Wellness and Success Center
URL;VALUE=URI:https://www.frc.edu/student-success-programs/basic-needs/cale
 ndar/8610378/overnight-oats-meal-kit-grab-bag-with-basic-needs
DTSTART:20250917T170000Z
DTEND:20250917T200000Z
END:VEVENT
END:VCALENDAR
