BEGIN:VCALENDAR
VERSION:2.0
PRODID:SchoolNow
CALSCALE:GREGORIAN
BEGIN:VEVENT
UID:3b40b634-74ab-11f0-b5d7-0a58a9feac02
DTSTAMP:20250808T225843Z
SUMMARY:Free Lunch for Students provided by Basic Needs
LOCATION:Eagles Perch
URL;VALUE=URI:https://www.frc.edu/student-success-programs/basic-needs/cale
 ndar/8483944/free-lunch-for-students-clone-clone-clone-clone-clone-clone-c
 lone-clone-clone-clone-clone-clone-clone
DTSTART:20251204T190000Z
DTEND:20251204T220000Z
END:VEVENT
END:VCALENDAR
