BEGIN:VCALENDAR
VERSION:2.0
PRODID:SchoolNow
CALSCALE:GREGORIAN
BEGIN:VEVENT
UID:29348858-74ab-11f0-97c8-0affd7b7bcdb
DTSTAMP:20250808T225812Z
SUMMARY:Free Lunch for Students provided by Basic Needs
LOCATION:Eagles Perch
URL;VALUE=URI:https://www.frc.edu/student-success-programs/basic-needs/cale
 ndar/8483942/free-lunch-for-students-clone-clone-clone-clone-clone-clone-c
 lone-clone-clone-clone-clone
DTSTART:20251106T190000Z
DTEND:20251106T220000Z
END:VEVENT
END:VCALENDAR
