BEGIN:VCALENDAR
VERSION:2.0
PRODID:SchoolNow
CALSCALE:GREGORIAN
BEGIN:VEVENT
UID:1a9b6e1a-74ab-11f0-bdc6-0affeaa60e11
DTSTAMP:20250808T225748Z
SUMMARY:Free Lunch for Students provided by Basic Needs
LOCATION:Eagles Perch
URL;VALUE=URI:https://www.frc.edu/student-success-programs/basic-needs/cale
 ndar/8483940/free-lunch-for-students-clone-clone-clone-clone-clone-clone-c
 lone-clone-clone
DTSTART:20251009T180000Z
DTEND:20251009T210000Z
END:VEVENT
END:VCALENDAR
