BEGIN:VCALENDAR
VERSION:2.0
PRODID:SchoolNow
CALSCALE:GREGORIAN
BEGIN:VEVENT
UID:06ebd062-74ab-11f0-8148-0affeaa60e11
DTSTAMP:20250808T225715Z
SUMMARY:Free Lunch for Students provided by Basic Needs
LOCATION:Eagles Perch
URL;VALUE=URI:https://www.frc.edu/student-success-programs/basic-needs/cale
 ndar/8483939/free-lunch-for-students-clone-clone-clone-clone-clone-clone-c
 lone-clone
DTSTART:20250925T180000Z
DTEND:20250925T210000Z
END:VEVENT
END:VCALENDAR
