BEGIN:VCALENDAR
VERSION:2.0
PRODID:SchoolNow
CALSCALE:GREGORIAN
BEGIN:VEVENT
UID:fd198eda-74aa-11f0-960f-0a58a9feac02
DTSTAMP:20250808T225658Z
SUMMARY:Free Lunch for Students provided by Basic Needs
LOCATION:Eagles Perch
URL;VALUE=URI:https://www.frc.edu/student-success-programs/basic-needs/cale
 ndar/8483938/free-lunch-for-students-clone-clone-clone-clone-clone-clone-c
 lone
DTSTART:20250911T180000Z
DTEND:20250911T210000Z
END:VEVENT
END:VCALENDAR
