BEGIN:VCALENDAR
VERSION:2.0
PRODID:SchoolNow
CALSCALE:GREGORIAN
BEGIN:VEVENT
UID:3d63010e-119d-11f0-be36-0a58a9feac02
DTSTAMP:20250404T213908Z
SUMMARY:Picnic & Chill Meal Kit
LOCATION:Student Wellness & Success Center
URL;VALUE=URI:https://www.frc.edu/student-success-programs/basic-needs/cale
 ndar/7851564/picnic-chill-meal-kit
DTSTART:20250409T170000Z
DTEND:20250409T180000Z
END:VEVENT
END:VCALENDAR
