BEGIN:VCALENDAR
VERSION:2.0
PRODID:SchoolNow
CALSCALE:GREGORIAN
BEGIN:VEVENT
UID:0bfda1a0-fae1-11ef-9307-0affea283dcb
DTSTAMP:20250306T231634Z
SUMMARY:Chicken Broccoli Alfredo Meal Kit
LOCATION:Student Wellness & Success Center
URL;VALUE=URI:https://www.frc.edu/student-success-programs/basic-needs/cale
 ndar/7620200/chicken-broccoli-alfredo-meal-kit
DTSTART:20250311T170000Z
DTEND:20250311T180000Z
END:VEVENT
END:VCALENDAR
