BEGIN:VCALENDAR
VERSION:2.0
PRODID:SchoolNow
CALSCALE:GREGORIAN
BEGIN:VEVENT
UID:0a04b11c-d9b3-11ef-9727-0a58a9feac02
DTSTAMP:20250123T175406Z
SUMMARY:Enchilada Meal Kit Grab Bag
LOCATION:Student Wellness and Success Center
URL;VALUE=URI:https://www.frc.edu/student-success-programs/basic-needs/cale
 ndar/7359013/enchilada-meal-kit-grab-bag
DTSTART:20250129T170000Z
DTEND:20250130T000000Z
END:VEVENT
END:VCALENDAR
