BEGIN:VCALENDAR
VERSION:2.0
PRODID:SchoolNow
CALSCALE:GREGORIAN
BEGIN:VEVENT
UID:1eefced6-ceaf-11ef-b888-0a58a9feac02
DTSTAMP:20250423T165200Z
SUMMARY:Free Lunch for Students provided by Basic Needs
LOCATION:Eagles Perch
URL;VALUE=URI:https://www.frc.edu/student-success-programs/basic-needs/cale
 ndar/7291799/free-lunch-for-students-clone-clone-clone-clone-clone
DTSTART:20250424T180000Z
DTEND:20250424T210000Z
END:VEVENT
END:VCALENDAR
