BEGIN:VCALENDAR
VERSION:2.0
PRODID:SchoolNow
CALSCALE:GREGORIAN
BEGIN:VEVENT
UID:0d7335c6-ceaf-11ef-a396-0ef53fa178dd
DTSTAMP:20250206T163721Z
SUMMARY:Free Lunch for Students provided by Basic Needs
LOCATION:Eagles Perch
URL;VALUE=URI:https://www.frc.edu/student-success-programs/basic-needs/cale
 ndar/7291798/free-lunch-for-students-clone-clone-clone-clone
DTSTART:20250403T180000Z
DTEND:20250403T210000Z
END:VEVENT
END:VCALENDAR
