BEGIN:VCALENDAR
VERSION:2.0
PRODID:SchoolNow
CALSCALE:GREGORIAN
BEGIN:VEVENT
UID:e73bbb80-ceae-11ef-9a94-0afff37061eb
DTSTAMP:20250206T163715Z
SUMMARY:Free Lunch for Students provided by Basic Needs
LOCATION:Eagles Perch
URL;VALUE=URI:https://www.frc.edu/student-success-programs/basic-needs/cale
 ndar/7291797/free-lunch-for-students-clone-clone-clone
DTSTART:20250320T180000Z
DTEND:20250320T210000Z
END:VEVENT
END:VCALENDAR
