BEGIN:VCALENDAR
VERSION:2.0
PRODID:SchoolNow
CALSCALE:GREGORIAN
BEGIN:VEVENT
UID:de5123da-cead-11ef-804f-0a58a9feac02
DTSTAMP:20250206T163709Z
SUMMARY:Free Lunch for Students provided by Basic Needs
LOCATION:Eagles Perch
URL;VALUE=URI:https://www.frc.edu/student-success-programs/basic-needs/cale
 ndar/7291795/free-lunch-for-students-clone-clone
DTSTART:20250306T190000Z
DTEND:20250306T220000Z
END:VEVENT
END:VCALENDAR
