BEGIN:VCALENDAR
VERSION:2.0
PRODID:SchoolNow
CALSCALE:GREGORIAN
BEGIN:VEVENT
UID:d8b1fc6a-cead-11ef-8756-0a58a9feac02
DTSTAMP:20250206T163702Z
SUMMARY:Free Lunch for Students provided by Basic Needs
LOCATION:Eagles Perch
URL;VALUE=URI:https://www.frc.edu/student-success-programs/basic-needs/cale
 ndar/7291794/free-lunch-for-students-clone
DTSTART:20250220T190000Z
DTEND:20250220T220000Z
END:VEVENT
END:VCALENDAR
