BEGIN:VCALENDAR
VERSION:2.0
PRODID:SchoolNow
CALSCALE:GREGORIAN
BEGIN:VEVENT
UID:d2199d72-cead-11ef-9989-0a58a9feac02
DTSTAMP:20250206T163646Z
SUMMARY:Free Lunch for Students provided by Basic Needs
LOCATION:Eagles Perch
URL;VALUE=URI:https://www.frc.edu/student-success-programs/basic-needs/cale
 ndar/7291793/free-lunch-for-students-clone
DTSTART:20250206T190000Z
DTEND:20250206T220000Z
END:VEVENT
END:VCALENDAR
