BEGIN:VCALENDAR
VERSION:2.0
PRODID:SchoolNow
CALSCALE:GREGORIAN
BEGIN:VEVENT
UID:d2d9d69a-a8fc-11ef-8de6-0affd2f7531f
DTSTAMP:20241122T192752Z
SUMMARY:Free Breakfast Burritos for Students
LOCATION:Eagles Perch
URL;VALUE=URI:https://www.frc.edu/student-success-programs/basic-needs/cale
 ndar/7064023/free-breakfast-burritos-for-students
DTSTART:20241209T160000Z
DTEND:20241209T180000Z
END:VEVENT
END:VCALENDAR
