BEGIN:VCALENDAR
VERSION:2.0
PRODID:SchoolNow
CALSCALE:GREGORIAN
BEGIN:VEVENT
UID:f2327f2e-8b1a-11ef-b891-0a58a9feac02
DTSTAMP:20241015T172852Z
SUMMARY:Basic Needs Smoothie Bar
LOCATION:Student Wellness & Success Center
URL;VALUE=URI:https://www.frc.edu/student-success-programs/basic-needs/cale
 ndar/6831544/basic-needs-smoothie-bar
DTSTART:20241023T160000Z
DTEND:20241023T180000Z
END:VEVENT
END:VCALENDAR
