BEGIN:VCALENDAR
VERSION:2.0
PRODID:SchoolNow
CALSCALE:GREGORIAN
BEGIN:VEVENT
UID:1af71d00-7aab-11ef-ba03-0a58a9feac02
DTSTAMP:20240924T192829Z
SUMMARY:Pancake Breakfast Meal Kit
LOCATION:Student Wellness and Success Center
URL;VALUE=URI:https://www.frc.edu/student-success-programs/basic-needs/cale
 ndar/6680948/pancake-breakfast-meal-kit-scavenger-hunt-clone
DTSTART;VALUE=DATE:20241009
DTEND;VALUE=DATE:20241010
END:VEVENT
END:VCALENDAR
