BEGIN:VCALENDAR
VERSION:2.0
PRODID:SchoolNow
CALSCALE:GREGORIAN
BEGIN:VEVENT
UID:3a860b28-63d0-11ef-ad0f-0a58a9feac02
DTSTAMP:20240903T153814Z
SUMMARY:Burrito Bowl Meal Kit
LOCATION:Student Wellness and Success Center
URL;VALUE=URI:https://www.frc.edu/student-success-programs/basic-needs/cale
 ndar/6461765/burrito-bowl-grab-bag-event-clone
DTSTART;VALUE=DATE:20240910
DTEND;VALUE=DATE:20240911
END:VEVENT
END:VCALENDAR
