BEGIN:VCALENDAR
VERSION:2.0
PRODID:SchoolNow
CALSCALE:GREGORIAN
BEGIN:VEVENT
UID:238112ac-63cf-11ef-af1d-0a58a9feac02
DTSTAMP:20240826T171757Z
SUMMARY:Free Lunch for Students
LOCATION:Eagles Perch
URL;VALUE=URI:https://www.frc.edu/student-success-programs/basic-needs/cale
 ndar/6461746/free-lunch-for-students-clone-clone-clone-clone
DTSTART:20240919T180000Z
DTEND:20240919T210000Z
END:VEVENT
END:VCALENDAR
