BEGIN:VCALENDAR
VERSION:2.0
PRODID:SchoolNow
CALSCALE:GREGORIAN
BEGIN:VEVENT
UID:17d80474-63cf-11ef-a98d-0affd05cde67
DTSTAMP:20240826T171738Z
SUMMARY:Free Lunch for Students
LOCATION:Eagles Perch
URL;VALUE=URI:https://www.frc.edu/student-success-programs/basic-needs/cale
 ndar/6461744/free-lunch-for-students-clone-clone-clone
DTSTART:20240905T180000Z
DTEND:20240905T210000Z
END:VEVENT
END:VCALENDAR
