BEGIN:VCALENDAR
VERSION:2.0
PRODID:SchoolNow
CALSCALE:GREGORIAN
BEGIN:VEVENT
UID:ba524680-f762-11ee-8fb1-0e79b710e1d9
DTSTAMP:20240410T175008Z
SUMMARY:Dairy Day  Grab Bag Event
LOCATION:Student Wellness and Success Center
URL;VALUE=URI:https://www.frc.edu/student-success-programs/basic-needs/cale
 ndar/5753810/dairy-day-grab-bag-event-clone
DTSTART:20240423T160000Z
DTEND:20240423T230000Z
END:VEVENT
END:VCALENDAR
