BEGIN:VCALENDAR
VERSION:2.0
PRODID:SchoolNow
CALSCALE:GREGORIAN
BEGIN:VEVENT
UID:8f8d95e4-d827-11ee-9d79-0affe8118dab
DTSTAMP:20240301T235811Z
SUMMARY:Burrito Bowl Grab Bag Event
LOCATION:Student Wellness and Success Center
URL;VALUE=URI:https://www.frc.edu/student-success-programs/basic-needs/cale
 ndar/5442185/burrito-bowl-grab-bag-event
DTSTART;VALUE=DATE:20240313
DTEND;VALUE=DATE:20240314
END:VEVENT
END:VCALENDAR
