BEGIN:VCALENDAR
VERSION:2.0
PRODID:SchoolNow
CALSCALE:GREGORIAN
BEGIN:VEVENT
UID:19a36594-d5bf-11ee-8ef1-0a58a9feac02
DTSTAMP:20240227T222524Z
SUMMARY:Trauma Informed Care Workshop
LOCATION:Room 605 (Attached to Student Wellness and Success Center)
URL;VALUE=URI:https://www.frc.edu/student-success-programs/basic-needs/cale
 ndar/5418102/trauma-informed-care-workshop
DTSTART:20240308T210000Z
DTEND:20240308T220000Z
END:VEVENT
END:VCALENDAR
