BEGIN:VCALENDAR
VERSION:2.0
PRODID:SchoolNow
CALSCALE:GREGORIAN
BEGIN:VEVENT
UID:4af16310-cab3-11ee-87fb-0affcec41409
DTSTAMP:20240226T195025Z
SUMMARY:CalFresh Workshop Drop-In Hours: 2 Session Options
LOCATION:Computer Lab Rm. 201
URL;VALUE=URI:https://www.frc.edu/student-success-programs/basic-needs/cale
 ndar/5322351/calfresh-workshop-drop-in-hours-first-session
DTSTART:20240227T170000Z
DTEND:20240227T190000Z
ATTACH;FILENAME=Cal Fresh Dropin Workshop.pdf;FMTTYPE=application/pdf:https
 ://campussuite-storage.s3.amazonaws.com/prod/1558523/0672826e-a84b-11e7-97
 79-0ae3e1d9783c/2741182/72b9e8c8-cab2-11ee-bef4-020a3744bdcd/file/Cal Fres
 h Dropin Workshop.pdf
END:VEVENT
END:VCALENDAR
