BEGIN:VCALENDAR
VERSION:2.0
PRODID:SchoolNow
CALSCALE:GREGORIAN
BEGIN:VEVENT
UID:bdcfbbe2-c08c-11ee-9f57-0e512a20aa31
DTSTAMP:20240131T230200Z
SUMMARY:Healthy Relationships Workshop
LOCATION:Room 605\, attached to Student Wellness & Success Center
URL;VALUE=URI:https://www.frc.edu/student-success-programs/basic-needs/cale
 ndar/5237445/healthy-relationships-workshop
DTSTART:20240214T200000Z
DTEND:20240214T210000Z
END:VEVENT
END:VCALENDAR
