BEGIN:VCALENDAR
VERSION:2.0
PRODID:SchoolNow
CALSCALE:GREGORIAN
BEGIN:VEVENT
UID:7a70f6e0-c08c-11ee-ae49-0a58a9feac02
DTSTAMP:20240131T230007Z
SUMMARY:Free Lunch for Students
LOCATION:Eagles Perch
URL;VALUE=URI:https://www.frc.edu/student-success-programs/basic-needs/cale
 ndar/5237442/free-lunch-for-students-clone-clone
DTSTART:20240523T180000Z
DTEND:20240523T210000Z
END:VEVENT
END:VCALENDAR
