BEGIN:VCALENDAR
VERSION:2.0
PRODID:SchoolNow
CALSCALE:GREGORIAN
BEGIN:VEVENT
UID:531512ca-c08c-11ee-a0eb-0af9c152e669
DTSTAMP:20240131T225901Z
SUMMARY:Free Lunch for Students
LOCATION:Eagles Perch
URL;VALUE=URI:https://www.frc.edu/student-success-programs/basic-needs/cale
 ndar/5237436/free-lunch-for-students-clone-clone
DTSTART:20240425T180000Z
DTEND:20240425T210000Z
END:VEVENT
END:VCALENDAR
