BEGIN:VCALENDAR
VERSION:2.0
PRODID:SchoolNow
CALSCALE:GREGORIAN
BEGIN:VEVENT
UID:43a3bada-c08c-11ee-8678-021098affe25
DTSTAMP:20240410T154327Z
SUMMARY:Free Lunch for Students
LOCATION:Eagles Perch
URL;VALUE=URI:https://www.frc.edu/student-success-programs/basic-needs/cale
 ndar/5237433/free-lunch-for-students-clone-clone
DTSTART:20240411T180000Z
DTEND:20240411T210000Z
END:VEVENT
END:VCALENDAR
