BEGIN:VCALENDAR
VERSION:2.0
PRODID:SchoolNow
CALSCALE:GREGORIAN
BEGIN:VEVENT
UID:21c7693e-c08c-11ee-96a5-0a58a9feac02
DTSTAMP:20240131T225738Z
SUMMARY:Free Lunch for Students
LOCATION:Eagles Perch
URL;VALUE=URI:https://www.frc.edu/student-success-programs/basic-needs/cale
 ndar/5237427/free-lunch-for-students-clone-clone
DTSTART:20240307T190000Z
DTEND:20240307T220000Z
END:VEVENT
END:VCALENDAR
