BEGIN:VCALENDAR
VERSION:2.0
PRODID:SchoolNow
CALSCALE:GREGORIAN
BEGIN:VEVENT
UID:4067213e-bbd4-11ee-b6ca-0a58a9feac02
DTSTAMP:20240126T002212Z
SUMMARY:Minestrone Soup Meal Kits
LOCATION:Student Wellness & Success Center
URL;VALUE=URI:https://www.frc.edu/student-success-programs/basic-needs/cale
 ndar/5209340/minestrone-soup-meal-kits
DTSTART:20240130T170000Z
DTEND:20240131T000000Z
END:VEVENT
END:VCALENDAR
