BEGIN:VCALENDAR
VERSION:2.0
PRODID:SchoolNow
CALSCALE:GREGORIAN
BEGIN:VEVENT
UID:a4fbac78-7cfa-11ee-99fe-0a1bd524660b
DTSTAMP:20231106T231724Z
SUMMARY:Flu Vaccine Clinic (Free for Students & Staff)
LOCATION:The Perch
URL;VALUE=URI:https://www.frc.edu/student-success-programs/basic-needs/cale
 ndar/4931404/flu-vaccine-clinic-free-for-students-staff
DTSTART:20231114T190000Z
DTEND:20231114T210000Z
END:VEVENT
END:VCALENDAR
