BEGIN:VCALENDAR
VERSION:2.0
PRODID:SchoolNow
CALSCALE:GREGORIAN
BEGIN:VEVENT
UID:c58bf800-79a6-11ee-aecc-0a58a9feac02
DTSTAMP:20231102T173928Z
SUMMARY:Giving Tuesday Gratitude Group
LOCATION:Student Wellness & Success Center
URL;VALUE=URI:https://www.frc.edu/student-success-programs/basic-needs/cale
 ndar/4923159/giving-tuesday-gratitude-group
DTSTART:20231128T200000Z
DTEND:20231128T210000Z
ATTACH;FILENAME=Gratitude Group.pdf;FMTTYPE=application/pdf:https://campuss
 uite-storage.s3.amazonaws.com/prod/1558523/0672826e-a84b-11e7-9779-0ae3e1d
 9783c/2693520/37d2eae6-79a6-11ee-82ce-0a58a9feac02/file/Gratitude Group.pd
 f
END:VEVENT
END:VCALENDAR
